BEGIN:VCALENDAR
VERSION:2.0
PRODID:-//Sociedad filosófica del Uruguay - ECPv6.7.1//NONSGML v1.0//EN
CALSCALE:GREGORIAN
METHOD:PUBLISH
X-ORIGINAL-URL:https://sfu.org.uy
X-WR-CALDESC:Events for Sociedad filosófica del Uruguay
REFRESH-INTERVAL;VALUE=DURATION:PT1H
X-Robots-Tag:noindex
X-PUBLISHED-TTL:PT1H
BEGIN:VTIMEZONE
TZID:America/Sao_Paulo
BEGIN:STANDARD
TZOFFSETFROM:-0300
TZOFFSETTO:-0300
TZNAME:-03
DTSTART:20210101T000000
END:STANDARD
END:VTIMEZONE
BEGIN:VEVENT
DTSTART;TZID=America/Sao_Paulo:20211117T130000
DTEND;TZID=America/Sao_Paulo:20211117T150000
DTSTAMP:20260421T064107
CREATED:20211106T050442Z
LAST-MODIFIED:20211106T050442Z
UID:2204-1637154000-1637161200@sfu.org.uy
SUMMARY:Conferencia de Noviembre de los "Miércoles con la SFU": Luis Carlos Pereira
DESCRIPTION:Será dictada por el Dr. Luis Carlos Pereira y se titula “Sobre sistemas ecuménicos puros”
URL:https://sfu.org.uy/evento/conferencia-de-noviembre-de-los-miercoles-con-la-sfu-luis-carlos-pereira/
CATEGORIES:Los Miércoles con la SFU,SFU
ATTACH;FMTTYPE=image/jpeg:https://sfu.org.uy/2021/wp-content/uploads/2017/04/logo-entradas-noticias-horizontal-e1522204215975.jpg
ORGANIZER;CN="Sociedad Filos%C3%B3fica del Uruguay":MAILTO:sfu@sfu.org.uy
END:VEVENT
BEGIN:VEVENT
DTSTART;TZID=America/Sao_Paulo:20210922T120000
DTEND;TZID=America/Sao_Paulo:20210922T130000
DTSTAMP:20260421T064107
CREATED:20210302T144507Z
LAST-MODIFIED:20210302T144507Z
UID:1621-1632312000-1632315600@sfu.org.uy
SUMMARY:Conferencia de setiembre de los "Miércoles con la SFU"
DESCRIPTION:Será dictada por Antonio Diéguez y se titula “El origen evolutivo de la mente humana” \nEl enlace estará disponible aquí próximamente.
URL:https://sfu.org.uy/evento/conferencia-de-setiembre-de-los-miercoles-con-la-sfu/
LOCATION:Virtual
CATEGORIES:Los Miércoles con la SFU,SFU
ATTACH;FMTTYPE=image/jpeg:https://sfu.org.uy/2021/wp-content/uploads/2021/02/WhatsApp-Image-2021-03-01-at-21.54.36-1.jpeg
ORGANIZER;CN="Sociedad Filos%C3%B3fica del Uruguay":MAILTO:sfu@sfu.org.uy
END:VEVENT
BEGIN:VEVENT
DTSTART;TZID=America/Sao_Paulo:20210825T180000
DTEND;TZID=America/Sao_Paulo:20210825T190000
DTSTAMP:20260421T064107
CREATED:20210302T144218Z
LAST-MODIFIED:20210302T144218Z
UID:1620-1629914400-1629918000@sfu.org.uy
SUMMARY:Conferencia de agosto de los "Miércoles con la SFU"
DESCRIPTION:Será dictada por Daniel Biebel y se titula ” ” \nEl enlace estará disponible aquí próximamente.
URL:https://sfu.org.uy/evento/conferencia-de-agosto-de-los-miercoles-con-la-sfu/
LOCATION:Virtual
CATEGORIES:Los Miércoles con la SFU,SFU
ATTACH;FMTTYPE=image/jpeg:https://sfu.org.uy/2021/wp-content/uploads/2021/02/WhatsApp-Image-2021-03-01-at-21.54.36-1.jpeg
ORGANIZER;CN="Sociedad Filos%C3%B3fica del Uruguay":MAILTO:sfu@sfu.org.uy
END:VEVENT
BEGIN:VEVENT
DTSTART;TZID=America/Sao_Paulo:20210721T180000
DTEND;TZID=America/Sao_Paulo:20210721T190000
DTSTAMP:20260421T064107
CREATED:20210302T143935Z
LAST-MODIFIED:20210302T143935Z
UID:1614-1626890400-1626894000@sfu.org.uy
SUMMARY:Conferencia de julio de los "Miércoles con la SFU"
DESCRIPTION:Será dictada por Rogério Severio y se titula “Un cambio en las razones de Quine para la “indeterminación”.” \nEl enlace estará disponible aquí próximamente.
URL:https://sfu.org.uy/evento/conferencia-de-julio-de-los-miercoles-con-la-sfu/
LOCATION:Virtual
CATEGORIES:Los Miércoles con la SFU,SFU
ATTACH;FMTTYPE=image/jpeg:https://sfu.org.uy/2021/wp-content/uploads/2021/02/WhatsApp-Image-2021-03-01-at-21.54.36-1.jpeg
ORGANIZER;CN="Sociedad Filos%C3%B3fica del Uruguay":MAILTO:sfu@sfu.org.uy
END:VEVENT
BEGIN:VEVENT
DTSTART;TZID=America/Sao_Paulo:20210623T180000
DTEND;TZID=America/Sao_Paulo:20210623T190000
DTSTAMP:20260421T064107
CREATED:20210302T143657Z
LAST-MODIFIED:20210302T143657Z
UID:1613-1624471200-1624474800@sfu.org.uy
SUMMARY:Conferencia de junio de los "Miércoles con la SFU"
DESCRIPTION:Será dictada por Marcelo Boeri\, y se titula “Alma\, mente y vida: ¿qué tiene Aristóteles para decirnos en la “era digital”?” \nEl enlace estará disponible aquí próximamente.
URL:https://sfu.org.uy/evento/conferencia-de-junio-de-los-miercoles-con-la-sfu/
LOCATION:Virtual
CATEGORIES:Los Miércoles con la SFU,SFU
ATTACH;FMTTYPE=image/jpeg:https://sfu.org.uy/2021/wp-content/uploads/2021/02/WhatsApp-Image-2021-03-01-at-21.54.36-1.jpeg
ORGANIZER;CN="Sociedad Filos%C3%B3fica del Uruguay":MAILTO:sfu@sfu.org.uy
END:VEVENT
BEGIN:VEVENT
DTSTART;TZID=America/Sao_Paulo:20210519T130000
DTEND;TZID=America/Sao_Paulo:20210519T140000
DTSTAMP:20260421T064107
CREATED:20210302T143420Z
LAST-MODIFIED:20210302T143420Z
UID:1612-1621429200-1621432800@sfu.org.uy
SUMMARY:Conferencia de mayo de los "Miércoles con la SFU"
DESCRIPTION:Será dictada por Mario Gómez Torrente\, y se titula “El “debe” lógico y el concepto de consecuencia lógica” \nEl enlace estará disponible aquí próximamente.
URL:https://sfu.org.uy/evento/conferencia-de-mayo-de-los-miercoles-con-la-sfu/
LOCATION:Virtual
CATEGORIES:Los Miércoles con la SFU,SFU
ATTACH;FMTTYPE=image/jpeg:https://sfu.org.uy/2021/wp-content/uploads/2021/02/WhatsApp-Image-2021-03-01-at-21.54.36-1.jpeg
ORGANIZER;CN="Sociedad Filos%C3%B3fica del Uruguay":MAILTO:sfu@sfu.org.uy
END:VEVENT
BEGIN:VEVENT
DTSTART;TZID=America/Sao_Paulo:20210428T180000
DTEND;TZID=America/Sao_Paulo:20210428T190000
DTSTAMP:20260421T064107
CREATED:20210302T143029Z
LAST-MODIFIED:20210422T142125Z
UID:1611-1619632800-1619636400@sfu.org.uy
SUMMARY:Conferencia de abril de los "Miércoles con la SFU"
DESCRIPTION:Será dictada por Plinio Junqueira Smith\, y se titula “Dos formas de escepticismo contemporáneo: neopirronismo y escepticismo global” \nExcepcionalmente\, esta conferencia está abierta a todo el público. \nClick aquí para entrar en la sala Zoom.
URL:https://sfu.org.uy/evento/conferencia-de-abril-de-los-miercoles-con-la-sfu/
LOCATION:Virtual
CATEGORIES:Los Miércoles con la SFU,SFU
ATTACH;FMTTYPE=image/jpeg:https://sfu.org.uy/2021/wp-content/uploads/2021/02/WhatsApp-Image-2021-03-01-at-21.54.36-1.jpeg
ORGANIZER;CN="Sociedad Filos%C3%B3fica del Uruguay":MAILTO:sfu@sfu.org.uy
END:VEVENT
BEGIN:VEVENT
DTSTART;TZID=America/Sao_Paulo:20210324T120000
DTEND;TZID=America/Sao_Paulo:20210324T140000
DTSTAMP:20260421T064107
CREATED:20210224T005944Z
LAST-MODIFIED:20210322T124244Z
UID:1557-1616587200-1616594400@sfu.org.uy
SUMMARY:Conferencia Inaugural de los Miércoles con la SFU: Kepa Korta\, Frege y sus circunstancias. Una interpretación de la teoría fregeana del significado
DESCRIPTION:La SFU invita a todo el público a la primera videoconferencia del ciclo “Los miércoles con la SFU” que se desarrollará a lo largo del 2021. La misma se realizará a través de Zoom y es de libre acceso. \nClick aquí para acceder a la videoconferencia. \nPor cualquier consulta\, escríbanos a sfu@sfu.org.uy.
URL:https://sfu.org.uy/evento/conferencia-inaugural-de-los-miercoles-con-la-sfu-kepa-korta-frege-y-sus-circunstancias-una-interpretacion-de-la-teoria-fregeana-del-significado/
LOCATION:Virtual
CATEGORIES:Los Miércoles con la SFU,SFU
ATTACH;FMTTYPE=image/jpeg:https://sfu.org.uy/2021/wp-content/uploads/2021/02/WhatsApp-Image-2021-03-01-at-21.54.36-1.jpeg
ORGANIZER;CN="Sociedad Filos%C3%B3fica del Uruguay":MAILTO:sfu@sfu.org.uy
END:VEVENT
END:VCALENDAR