BEGIN:VCALENDAR
VERSION:2.0
PRODID:-//Sociedad filosófica del Uruguay - ECPv6.7.1//NONSGML v1.0//EN
CALSCALE:GREGORIAN
METHOD:PUBLISH
X-WR-CALNAME:Sociedad filosófica del Uruguay
X-ORIGINAL-URL:https://sfu.org.uy
X-WR-CALDESC:Events for Sociedad filosófica del Uruguay
REFRESH-INTERVAL;VALUE=DURATION:PT1H
X-Robots-Tag:noindex
X-PUBLISHED-TTL:PT1H
BEGIN:VTIMEZONE
TZID:America/Sao_Paulo
BEGIN:STANDARD
TZOFFSETFROM:-0300
TZOFFSETTO:-0300
TZNAME:-03
DTSTART:20220101T000000
END:STANDARD
END:VTIMEZONE
BEGIN:VEVENT
DTSTART;TZID=America/Sao_Paulo:20220921T180000
DTEND;TZID=America/Sao_Paulo:20220921T200000
DTSTAMP:20260426T001248
CREATED:20220318T181744Z
LAST-MODIFIED:20220824T185716Z
UID:2444-1663783200-1663790400@sfu.org.uy
SUMMARY:SFU - Conferencia de setiembre - Pablo Drews (URU): Ontología del conflicto en Nietzsche
DESCRIPTION:Click aquí para acceder a la conferencia.
URL:https://sfu.org.uy/evento/sfu-conferencia-de-setiembre-pablo-drews-uru-ontologia-del-conflicto-en-nietzsche/
CATEGORIES:evento,Los Miércoles con la SFU,SFU
ATTACH;FMTTYPE=image/jpeg:https://sfu.org.uy/2021/wp-content/uploads/2022/03/Logo-Miercoles-SFU-2021.jpeg
ORGANIZER;CN="Sociedad Filos%C3%B3fica del Uruguay":MAILTO:sfu@sfu.org.uy
END:VEVENT
END:VCALENDAR